BEGIN:VCALENDAR
VERSION:2.0
PRODID:-//rooster/egg//NONSGML v1.0//EN
BEGIN:VTIMEZONE
TZID:Pacific/Auckland
TZURL:http://tzurl.org/zoneinfo-outlook/Pacific/Auckland
X-LIC-LOCATION:Pacific/Auckland
BEGIN:DAYLIGHT
TZOFFSETFROM:+1200
TZOFFSETTO:+1300
TZNAME:NZDT
DTSTART:19700927T020000
RRULE:FREQ=YEARLY;BYMONTH=9;BYDAY=-1SU
END:DAYLIGHT
BEGIN:STANDARD
TZOFFSETFROM:+1300
TZOFFSETTO:+1200
TZNAME:NZST
DTSTART:19700405T030000
RRULE:FREQ=YEARLY;BYMONTH=4;BYDAY=1SU
END:STANDARD
END:VTIMEZONE
BEGIN:VEVENT
ORGANIZER:Ma. Claudette Mayuga:mailto:info@besafetraining.co.nz
DTSTART:20180301T074500
DTEND:20180302T160000
LOCATION:Manukau Institute Of Technology, Gate 8, P209, 109 Bairds rd, OTARA, Auckland
SEQUENCE:0
UID:68d3fb04cd0f5f535e87f4018bf9829ebesafetraining.nz
DTSTAMP:20260424T123732Z
DESCRIPTION:PLEASE ARRIVE AT THE TIME SPECIFIED ABOVE. END TIMES ARE APPROXIMATE.\nCheck your own booking details carefully.  You may or may not be enrolled for all options in this course. - info@besafetraining.co.nz - https://www.besafetraining.nz/event?id=731
SUMMARY:Working at Heights WTC 3 0103
END:VEVENT
END:VCALENDAR