BEGIN:VCALENDAR
VERSION:2.0
PRODID:-//rooster/egg//NONSGML v1.0//EN
BEGIN:VTIMEZONE
TZID:Pacific/Auckland
TZURL:http://tzurl.org/zoneinfo-outlook/Pacific/Auckland
X-LIC-LOCATION:Pacific/Auckland
BEGIN:DAYLIGHT
TZOFFSETFROM:+1200
TZOFFSETTO:+1300
TZNAME:NZDT
DTSTART:19700927T020000
RRULE:FREQ=YEARLY;BYMONTH=9;BYDAY=-1SU
END:DAYLIGHT
BEGIN:STANDARD
TZOFFSETFROM:+1300
TZOFFSETTO:+1200
TZNAME:NZST
DTSTART:19700405T030000
RRULE:FREQ=YEARLY;BYMONTH=4;BYDAY=1SU
END:STANDARD
END:VTIMEZONE
BEGIN:VEVENT
ORGANIZER:Ma.Claudette Mayuga:mailto:info@besafetraining.co.nz
DTSTART:20180124T073000
DTEND:20180124T120000
LOCATION:Instant Access Hire, 7 Fraser Road, Mt Wellington, Auckland
SEQUENCE:0
UID:d6bccc566f1af5e11bffd1b4144f26efbesafetraining.nz
DTSTAMP:20260424T125537Z
DESCRIPTION:PLEASE ARRIVE AT THE TIME SPECIFIED ABOVE. END TIMES ARE APPROXIMATE.\nCheck your own booking details carefully.  You may or may not be enrolled for all options in this course. - info@besafetraining.co.nz - https://www.besafetraining.nz/event?id=705
SUMMARY:Mobile Elevated Working Platform (MEWP) REFRESHER 2401
END:VEVENT
END:VCALENDAR